BEGIN:VCALENDAR
VERSION:2.0
PRODID:DPCALENDAR
CALSCALE:GREGORIAN
BEGIN:VTIMEZONE
TZID:Europe/Berlin
X-MICROSOFT-CDO-TZID:4
BEGIN:STANDARD
DTSTART:20251026T010000
TZOFFSETFROM:+0200
TZOFFSETTO:+0100
TZNAME:CET
END:STANDARD
BEGIN:STANDARD
DTSTART:20261025T010000
TZOFFSETFROM:+0200
TZOFFSETTO:+0100
TZNAME:CET
END:STANDARD
BEGIN:DAYLIGHT
DTSTART:20260329T010000
TZOFFSETFROM:+0100
TZOFFSETTO:+0200
TZNAME:CEST
END:DAYLIGHT
END:VTIMEZONE
X-WR-TIMEZONE:Europe/Berlin
BEGIN:VEVENT
DTSTART;TZID=Europe/Berlin:20240119T193000
DTEND;TZID=Europe/Berlin:20240119T203000
UID:F25E49FB-5E2E-43FE-BEDE-F52C7CA0673F
SUMMARY:Anschießen 
CREATED:20240118T120005Z
DTSTAMP:20240118T120005Z
URL:https://gross-ippener.de/vereine/schuetzenverein/svtermine/anschiessen.html
LAST-MODIFIED:20240118T120453Z
SEQUENCE:288
LOCATION:Dorfstr.\, 27243 Groß Ippener\, Niedersachsen
GEO:52.96161657;8.61942351
X-LOCATION-DISPLAYNAME:Schießhalle
X-ACCESS:1
X-HITS:245
X-COLOR:006400
X-SHOW-END-TIME:0
END:VEVENT
BEGIN:VEVENT
DTSTART;TZID=Europe/Berlin:20240202T193000
DTEND;TZID=Europe/Berlin:20240202T203000
UID:C6C4355F-0F25-4AB8-87D4-2557662E52DC
SUMMARY:Kartenspielen
CREATED:20240118T120646Z
DTSTAMP:20240118T120646Z
URL:https://gross-ippener.de/vereine/schuetzenverein/svtermine/kartenspielen.html
LOCATION:Dorfstr.\, 27243 Groß Ippener\, Niedersachsen
GEO:52.96161657;8.61942351
X-LOCATION-DISPLAYNAME:Schießhalle
X-ACCESS:1
X-HITS:441
X-COLOR:006400
X-SHOW-END-TIME:0
END:VEVENT
BEGIN:VEVENT
DTSTART;TZID=Europe/Berlin:20240309T150000
DTEND;TZID=Europe/Berlin:20240309T180000
UID:E56191B4-083F-42E1-96DE-0F246ADE5442
SUMMARY:Theaternachmittag im Haus Adelheide 
CREATED:20240118T120807Z
DTSTAMP:20240118T120807Z
URL:https://gross-ippener.de/vereine/schuetzenverein/svtermine/theaternachmittag-im-haus-adelheide.html
LAST-MODIFIED:20240118T120948Z
SEQUENCE:101
LOCATION:Abernettistraße 43\, 27755 Delmenhorst\, Niedersachsen\, Deutschland
GEO:53.00774360;8.59937196
X-LOCATION-DISPLAYNAME:Haus Adelheide
X-ACCESS:1
X-HITS:848
X-COLOR:006400
X-SHOW-END-TIME:0
END:VEVENT
BEGIN:VEVENT
DTSTART;TZID=Europe/Berlin:20240309T180000
DTEND;TZID=Europe/Berlin:20240309T193000
UID:F67C62CB-F27F-4C3F-B136-0ACF5FD8883A
SUMMARY:Schnitzelbuffet 
CREATED:20240118T120936Z
DTSTAMP:20240118T120936Z
URL:https://gross-ippener.de/vereine/schuetzenverein/svtermine/schnitzelbuffet.html
DESCRIPTION:Anmeldung bis Sa., 02.03. bei Winklers unter 04221/23030
X-ALT-DESC;FMTTYPE=text/html:<p>Anmeldung bis Sa., 02.03. bei Winklers unter 04221/23030</p>
LAST-MODIFIED:20240118T131804Z
SEQUENCE:4108
LOCATION:Abernettistraße 43\, 27755 Delmenhorst\, Niedersachsen\, Deutschland
GEO:53.00774360;8.59937196
X-LOCATION-DISPLAYNAME:Haus Adelheide
X-ACCESS:1
X-HITS:788
X-COLOR:006400
X-SHOW-END-TIME:0
END:VEVENT
BEGIN:VEVENT
DTSTART;TZID=Europe/Berlin:20240309T193000
DTEND;TZID=Europe/Berlin:20240309T203000
UID:06640836-0FFF-48FF-9700-EAC40E596B21
SUMMARY:Schützenball mit Theaterstück
CREATED:20240118T121109Z
DTSTAMP:20240118T121109Z
URL:https://gross-ippener.de/vereine/schuetzenverein/svtermine/schuetzenball-mit-theaterstueck.html
LOCATION:Abernettistraße 43\, 27755 Delmenhorst\, Niedersachsen\, Deutschland
GEO:53.00774360;8.59937196
X-LOCATION-DISPLAYNAME:Haus Adelheide
X-ACCESS:1
X-HITS:885
X-COLOR:006400
X-SHOW-END-TIME:0
END:VEVENT
BEGIN:VEVENT
DTSTART;TZID=Europe/Berlin:20240404T180000
DTEND;TZID=Europe/Berlin:20240404T210000
UID:959DB6BF-F55C-4A5F-AB7C-D2F129D13AD7
SUMMARY:Pokalschießen für Schüler, Jugend
CREATED:20240118T121253Z
DTSTAMP:20240118T121253Z
URL:https://gross-ippener.de/vereine/schuetzenverein/svtermine/pokalschiessen-fuer-schueler-jugend.html
LOCATION:Dorfstr.\, 27243 Groß Ippener\, Niedersachsen
GEO:52.96161657;8.61942351
X-LOCATION-DISPLAYNAME:Schießhalle
X-ACCESS:1
X-HITS:820
X-COLOR:006400
X-SHOW-END-TIME:1
END:VEVENT
BEGIN:VEVENT
DTSTART;TZID=Europe/Berlin:20240405T180000
DTEND;TZID=Europe/Berlin:20240405T210000
UID:E359F845-B25C-45F8-875B-922225C1262C
SUMMARY:Pokalschießen für Damen und Herren
CREATED:20240118T121413Z
DTSTAMP:20240118T121413Z
URL:https://gross-ippener.de/vereine/schuetzenverein/svtermine/pokalschiessen-fuer-damen-und-herren.html
LOCATION:Dorfstr.\, 27243 Groß Ippener\, Niedersachsen
GEO:52.96161657;8.61942351
X-LOCATION-DISPLAYNAME:Schießhalle
X-ACCESS:1
X-HITS:617
X-COLOR:006400
X-SHOW-END-TIME:1
END:VEVENT
BEGIN:VEVENT
DTSTART;TZID=Europe/Berlin:20240511T180000
DTEND;TZID=Europe/Berlin:20240511T210000
UID:491C5EFD-6219-4DE1-9AAD-6445A0409255
SUMMARY:Versammlung, Frühjahrs- und Vogelschießen mit Knobeln
CREATED:20240118T121606Z
DTSTAMP:20240118T121606Z
URL:https://gross-ippener.de/vereine/schuetzenverein/svtermine/versammlung-fruehjahrs-und-vogelschiessen-mit-knobeln.html
LAST-MODIFIED:20240118T124837Z
SEQUENCE:1951
LOCATION:Dorfstr.\, 27243 Groß Ippener\, Niedersachsen
GEO:52.96161657;8.61942351
X-LOCATION-DISPLAYNAME:Schießhalle
X-ACCESS:1
X-HITS:1168
X-COLOR:006400
X-SHOW-END-TIME:1
END:VEVENT
BEGIN:VEVENT
DTSTART;TZID=Europe/Berlin:20240608T150000
DTEND;TZID=Europe/Berlin:20240608T160000
UID:8D5A76EE-BD12-49D0-9864-96AC9BD8D8ED
SUMMARY:Aufhängen der Kinderkönigsscheibe
CREATED:20240118T122006Z
DTSTAMP:20240118T122006Z
URL:https://gross-ippener.de/vereine/schuetzenverein/svtermine/aufhaengen-der-kinderkoenigsscheibe.html
X-ACCESS:1
X-HITS:1397
X-COLOR:006400
X-SHOW-END-TIME:0
END:VEVENT
BEGIN:VEVENT
DTSTART;TZID=Europe/Berlin:20240630T100000
DTEND;TZID=Europe/Berlin:20240630T110000
UID:CB88634F-19F7-463C-8595-CAA3A01188F8
SUMMARY:Verteilung der Preise vom Vogelschießen
CREATED:20240118T122234Z
DTSTAMP:20240118T122234Z
URL:https://gross-ippener.de/vereine/schuetzenverein/svtermine/verteilung-der-preise-vom-vogelschiessen.html
X-ACCESS:1
X-HITS:1449
X-COLOR:006400
X-SHOW-END-TIME:0
END:VEVENT
BEGIN:VEVENT
DTSTART;TZID=Europe/Berlin:20240630T113000
DTEND;TZID=Europe/Berlin:20240630T123000
UID:5A06EB5E-30B2-48CC-89D0-2F6E857EDE1B
SUMMARY:Vergleichsschießen Damen + Herren
CREATED:20240118T122355Z
DTSTAMP:20240118T122355Z
URL:https://gross-ippener.de/vereine/schuetzenverein/svtermine/vergleichsschiessen-damen-herren.html
LOCATION:Dorfstr.\, 27243 Groß Ippener\, Niedersachsen
GEO:52.96161657;8.61942351
X-LOCATION-DISPLAYNAME:Schießhalle
X-ACCESS:1
X-HITS:1135
X-COLOR:006400
X-SHOW-END-TIME:0
END:VEVENT
BEGIN:VEVENT
DTSTART;TZID=Europe/Berlin:20240727T180000
DTEND;TZID=Europe/Berlin:20240727T210000
UID:6FF340C3-5FEF-4458-BBB9-3CAFA3ECD324
SUMMARY:Ehepaar- und Korporalschaftsschießen mit Grillen (circa 19:00 Uhr)
CREATED:20240118T122532Z
DTSTAMP:20240118T122532Z
URL:https://gross-ippener.de/vereine/schuetzenverein/svtermine/ehepaar-und-korporalschaftsschiessen-mit-grillen-circa-19-00-uhr.html
LOCATION:Dorfstr.\, 27243 Groß Ippener\, Niedersachsen
GEO:52.96161657;8.61942351
X-LOCATION-DISPLAYNAME:Schießhalle
X-ACCESS:1
X-HITS:1176
X-COLOR:006400
X-SHOW-END-TIME:1
END:VEVENT
BEGIN:VEVENT
DTSTART;VALUE=DATE:20240824
DTEND;VALUE=DATE:20240825
UID:FB58A085-48EE-4E8D-83A7-96E0A4654061
SUMMARY:100-jähriges Jubiläum DSK Beckeln e.V.
CREATED:20240118T122716Z
DTSTAMP:20240118T122716Z
URL:https://gross-ippener.de/vereine/schuetzenverein/svtermine/100-jaehriges-jubilaeum-dsk-beckeln-e-v.html
X-ACCESS:1
X-HITS:936
X-COLOR:006400
X-SHOW-END-TIME:0
END:VEVENT
BEGIN:VEVENT
DTSTART;TZID=Europe/Berlin:20240906T180000
DTEND;TZID=Europe/Berlin:20240906T190000
UID:8EACB4D6-868F-47EA-B580-04245E9D15B3
SUMMARY:Samtgemeinde-/Königsschießen (Ort: Wohlde)
CREATED:20240118T122853Z
DTSTAMP:20240118T122853Z
URL:https://gross-ippener.de/vereine/schuetzenverein/svtermine/samtgemeinde-koenigsschiessen-ort-wohlde.html
X-ACCESS:1
X-HITS:1131
X-COLOR:006400
X-SHOW-END-TIME:0
END:VEVENT
BEGIN:VEVENT
DTSTART;TZID=Europe/Berlin:20240913T190000
DTEND;TZID=Europe/Berlin:20240913T200000
UID:93B700CC-C4C6-4DA0-AD77-ACFCF271BB7B
SUMMARY:Vier-Orte-Pokalschießen in (Ort: Kirchseelte)
CREATED:20240118T123023Z
DTSTAMP:20240118T123023Z
URL:https://gross-ippener.de/vereine/schuetzenverein/svtermine/vier-orte-pokalschiessen-in-ort-kirchseelte.html
X-ACCESS:1
X-HITS:1066
X-COLOR:006400
X-SHOW-END-TIME:0
END:VEVENT
BEGIN:VEVENT
DTSTART;TZID=Europe/Berlin:20240928T150000
DTEND;TZID=Europe/Berlin:20240928T160000
UID:0CC6F2CA-42EE-4443-A148-63B7AFB3FA42
SUMMARY:Kaffeenachmittag
CREATED:20240118T123137Z
DTSTAMP:20240118T123137Z
URL:https://gross-ippener.de/vereine/schuetzenverein/svtermine/kaffeenachmittag.html
X-ACCESS:1
X-HITS:812
X-COLOR:006400
X-SHOW-END-TIME:0
END:VEVENT
BEGIN:VEVENT
DTSTART;TZID=Europe/Berlin:20241019T180000
DTEND;TZID=Europe/Berlin:20241019T203000
UID:45C6B607-066F-4E91-AADD-DCA6B883EA25
SUMMARY:Herbst-/Glücksschießen mit "König der Könige"
CREATED:20240118T123530Z
DTSTAMP:20240118T123530Z
URL:https://gross-ippener.de/vereine/schuetzenverein/svtermine/herbst-gluecksschiessen-mit-koenig-der-koenige.html
LAST-MODIFIED:20241029T055739Z
SEQUENCE:24600129
LOCATION:Dorfstr.\, 27243 Groß Ippener\, Niedersachsen
GEO:52.96161657;8.61942351
X-LOCATION-DISPLAYNAME:Schießhalle
X-ACCESS:1
X-HITS:1100
X-COLOR:006400
X-SHOW-END-TIME:1
END:VEVENT
BEGIN:VEVENT
DTSTART;TZID=Europe/Berlin:20241201T110000
DTEND;TZID=Europe/Berlin:20241201T130000
UID:AC4AF3AF-95EF-4002-B338-9D279E4C8CDE
SUMMARY:Adventsschießen
CREATED:20240118T123718Z
DTSTAMP:20240118T123718Z
URL:https://gross-ippener.de/vereine/schuetzenverein/svtermine/adventsschiessen.html
LOCATION:Dorfstr.\, 27243 Groß Ippener\, Niedersachsen
GEO:52.96161657;8.61942351
X-LOCATION-DISPLAYNAME:Schießhalle
X-ACCESS:1
X-HITS:1277
X-COLOR:006400
X-SHOW-END-TIME:1
END:VEVENT
BEGIN:VEVENT
DTSTART;TZID=Europe/Berlin:20250103T200000
DTEND;TZID=Europe/Berlin:20250103T210000
UID:F8F32876-71D3-4414-8108-A8ADBB1E0C1A
SUMMARY:Jahreshauptversammlung
CREATED:20240118T123904Z
DTSTAMP:20240118T123904Z
URL:https://gross-ippener.de/vereine/schuetzenverein/svtermine/jahreshauptversammlung.html
X-ACCESS:1
X-HITS:1069
X-COLOR:006400
X-SHOW-END-TIME:0
END:VEVENT
BEGIN:VEVENT
DTSTART;TZID=Europe/Berlin:20250117T193000
DTEND;TZID=Europe/Berlin:20250117T203000
UID:638024B3-20B6-4F26-8B09-FC6172BC1252
SUMMARY:Anschießen
CREATED:20250604T111355Z
DTSTAMP:20250604T111355Z
URL:https://gross-ippener.de/vereine/schuetzenverein/svtermine/anschiessen-2.html
DESCRIPTION:hier begrüßen wir besonders die Neumitgliederdie Teilnahme der Korporalschaftsführer ist erwünscht
X-ALT-DESC;FMTTYPE=text/html:<p>hier begrüßen wir besonders die Neumitglieder<br />die Teilnahme der Korporalschaftsführer ist erwünscht</p>
LAST-MODIFIED:20250604T111355Z
SEQUENCE:0
LOCATION:Dorfstr.\, 27243 Groß Ippener\, Niedersachsen
GEO:52.96161657;8.61942351
X-LOCATION-DISPLAYNAME:Schießhalle
X-ACCESS:1
X-HITS:12
X-COLOR:006400
X-SHOW-END-TIME:0
END:VEVENT
BEGIN:VEVENT
DTSTART;TZID=Europe/Berlin:20250207T193000
DTEND;TZID=Europe/Berlin:20250207T203000
UID:38A088A4-9F83-435A-A8B2-FC21B6DFF520
SUMMARY:Kartenspielen
CREATED:20250604T111509Z
DTSTAMP:20250604T111509Z
URL:https://gross-ippener.de/vereine/schuetzenverein/svtermine/kartenspielen-2.html
LAST-MODIFIED:20250604T111509Z
SEQUENCE:0
LOCATION:Dorfstr.\, 27243 Groß Ippener\, Niedersachsen
GEO:52.96161657;8.61942351
X-LOCATION-DISPLAYNAME:Schießhalle
X-ACCESS:1
X-HITS:12
X-COLOR:006400
X-SHOW-END-TIME:0
END:VEVENT
BEGIN:VEVENT
DTSTART;TZID=Europe/Berlin:20250308T150000
DTEND;TZID=Europe/Berlin:20250308T180000
UID:F9CC1C04-36E4-41D6-8737-57DAEDAF36D3
SUMMARY:Theaternachmittag im Haus Adelheide
CREATED:20250604T111652Z
DTSTAMP:20250604T111652Z
URL:https://gross-ippener.de/vereine/schuetzenverein/svtermine/theaternachmittag-im-haus-adelheide-2.html
LAST-MODIFIED:20250604T111652Z
SEQUENCE:0
LOCATION:Abernettistraße 43\, 27755 Delmenhorst\, Niedersachsen\, Deutschland
GEO:53.00774360;8.59937196
X-LOCATION-DISPLAYNAME:Haus Adelheide
X-ACCESS:1
X-HITS:12
X-COLOR:006400
X-SHOW-END-TIME:0
END:VEVENT
BEGIN:VEVENT
DTSTART;TZID=Europe/Berlin:20250308T180000
DTEND;TZID=Europe/Berlin:20250308T193000
UID:7FA6CEDA-851B-4DD0-880D-42B505E9F5E4
SUMMARY:Schnitzelbuffet
CREATED:20250604T111852Z
DTSTAMP:20250604T111852Z
URL:https://gross-ippener.de/vereine/schuetzenverein/svtermine/schnitzelbuffet-2.html
DESCRIPTION:Anmeldung bis Sa., 01.03.2025 bei Winklers unter 04221/23030
X-ALT-DESC;FMTTYPE=text/html:<p>Anmeldung bis Sa., 01.03.2025 bei Winklers unter 04221/23030</p>
LAST-MODIFIED:20250604T111852Z
SEQUENCE:0
LOCATION:Abernettistraße 43\, 27755 Delmenhorst\, Niedersachsen\, Deutschland
GEO:53.00774360;8.59937196
X-LOCATION-DISPLAYNAME:Haus Adelheide
X-ACCESS:1
X-HITS:45
X-COLOR:006400
X-SHOW-END-TIME:0
END:VEVENT
BEGIN:VEVENT
DTSTART;TZID=Europe/Berlin:20250308T193000
DTEND;TZID=Europe/Berlin:20250308T203000
UID:769053B4-2CD9-459B-AAFA-BD744D0F12CA
SUMMARY:Schützenball
CREATED:20240118T124010Z
DTSTAMP:20240118T124010Z
URL:https://gross-ippener.de/vereine/schuetzenverein/svtermine/schuetzenball.html
LAST-MODIFIED:20250604T111153Z
SEQUENCE:43453903
X-ACCESS:1
X-HITS:1170
X-COLOR:006400
X-SHOW-END-TIME:0
END:VEVENT
BEGIN:VEVENT
DTSTART;TZID=Europe/Berlin:20250403T180000
DTEND;TZID=Europe/Berlin:20250403T210000
UID:7C7B4191-E42E-42AF-9075-793C208A2DB4
SUMMARY:Pokalschießen für Schüler, Jugend, Damen u. Herren
CREATED:20250604T112028Z
DTSTAMP:20250604T112028Z
URL:https://gross-ippener.de/vereine/schuetzenverein/svtermine/pokalschiessen-fuer-schueler-jugend-damen-u-herren.html
LAST-MODIFIED:20250604T112028Z
SEQUENCE:0
LOCATION:Dorfstr.\, 27243 Groß Ippener\, Niedersachsen
GEO:52.96161657;8.61942351
X-LOCATION-DISPLAYNAME:Schießhalle
X-ACCESS:1
X-HITS:12
X-COLOR:006400
X-SHOW-END-TIME:1
END:VEVENT
BEGIN:VEVENT
DTSTART;TZID=Europe/Berlin:20250404T180000
DTEND;TZID=Europe/Berlin:20250404T203000
UID:C45B0BD1-AAED-479E-B172-AA3A7615333C
SUMMARY:Pokalschießen für Schüler, Jugend, Damen u. Herren
CREATED:20250604T112128Z
DTSTAMP:20250604T112128Z
URL:https://gross-ippener.de/vereine/schuetzenverein/svtermine/pokalschiessen-fuer-schueler-jugend-damen-u-herren-2.html
LAST-MODIFIED:20250604T112128Z
SEQUENCE:0
LOCATION:Dorfstr.\, 27243 Groß Ippener\, Niedersachsen
GEO:52.96161657;8.61942351
X-LOCATION-DISPLAYNAME:Schießhalle
X-ACCESS:1
X-HITS:12
X-COLOR:006400
X-SHOW-END-TIME:1
END:VEVENT
BEGIN:VEVENT
DTSTART;TZID=Europe/Berlin:20250517T180000
DTEND;TZID=Europe/Berlin:20250517T190000
UID:1536F646-B17E-4C4F-8F9B-1764DB60DCAD
SUMMARY:50-jähriges Jubiläum Klosterbachtaler
CREATED:20250604T112307Z
DTSTAMP:20250604T112307Z
URL:https://gross-ippener.de/vereine/schuetzenverein/svtermine/50-jaehriges-jubilaeum-klosterbachtaler.html
LAST-MODIFIED:20250604T112307Z
SEQUENCE:0
LOCATION:Dorfstraße 5\, 27243 Groß Ippener\, Niedersachsen\, Deutschland
GEO:52.95887049;8.61755493
X-LOCATION-DISPLAYNAME:Gaststätte Wülfers
X-ACCESS:1
X-HITS:11
X-COLOR:006400
X-SHOW-END-TIME:0
END:VEVENT
BEGIN:VEVENT
DTSTART;VALUE=DATE:20250524
DTEND;VALUE=DATE:20250525
UID:B2D7E5DF-89FF-4BBC-91DF-859E49C13E6D
SUMMARY:150-jähriges Jubiläum SSK-Harpstedt von 1875 e.V.
CREATED:20250604T112418Z
DTSTAMP:20250604T112418Z
URL:https://gross-ippener.de/vereine/schuetzenverein/svtermine/150-jaehriges-jubilaeum-ssk-harpstedt-von-1875-e-v.html
LAST-MODIFIED:20250604T112418Z
SEQUENCE:0
X-ACCESS:1
X-HITS:12
X-COLOR:006400
X-SHOW-END-TIME:1
END:VEVENT
BEGIN:VEVENT
DTSTART;TZID=Europe/Berlin:20250531T180000
DTEND;TZID=Europe/Berlin:20250531T210000
UID:C3FA98E5-1A85-451F-B5D2-B0A26A928B13
SUMMARY:Versammlung, Frühjahrs- und Vogelschießen mit Knobeln
CREATED:20250604T112533Z
DTSTAMP:20250604T112533Z
URL:https://gross-ippener.de/vereine/schuetzenverein/svtermine/versammlung-fruehjahrs-und-vogelschiessen-mit-knobeln-2.html
DESCRIPTION:Uniform
X-ALT-DESC;FMTTYPE=text/html:<p><strong>Uniform</strong></p>
LAST-MODIFIED:20250604T112533Z
SEQUENCE:0
LOCATION:Dorfstr.\, 27243 Groß Ippener\, Niedersachsen
GEO:52.96161657;8.61942351
X-LOCATION-DISPLAYNAME:Schießhalle
X-ACCESS:1
X-HITS:37
X-COLOR:006400
X-SHOW-END-TIME:1
END:VEVENT
BEGIN:VEVENT
DTSTART;TZID=Europe/Berlin:20250613T160000
DTEND;TZID=Europe/Berlin:20250613T170000
UID:26F26F0C-860F-4037-8472-89C191B7254F
SUMMARY:Vereinsfoto für Jubiläum 2026
CREATED:20250604T112729Z
DTSTAMP:20250604T112729Z
URL:https://gross-ippener.de/vereine/schuetzenverein/svtermine/vereinsfoto-fuer-jubilaeum-2026.html
LAST-MODIFIED:20250604T112729Z
SEQUENCE:0
X-ACCESS:1
X-HITS:16
X-COLOR:006400
X-SHOW-END-TIME:0
END:VEVENT
BEGIN:VEVENT
DTSTART;TZID=Europe/Berlin:20250809T180000
DTEND;TZID=Europe/Berlin:20250809T210000
UID:4B5F4623-25CA-416E-9ED9-C7F463D54961
SUMMARY:Ehepaar- und Korporalschaftsschießen mit Grillen
CREATED:20250604T113249Z
DTSTAMP:20250604T113249Z
URL:https://gross-ippener.de/vereine/schuetzenverein/svtermine/ehepaar-und-korporalschaftsschiessen-mit-grillen.html
DESCRIPTION:UniformGrillen ca 19 Uhr
X-ALT-DESC;FMTTYPE=text/html:<p><strong>Uniform</strong><br />Grillen ca 19 Uhr</p>
LAST-MODIFIED:20250604T113249Z
SEQUENCE:0
LOCATION:Dorfstr.\, 27243 Groß Ippener\, Niedersachsen
GEO:52.96161657;8.61942351
X-LOCATION-DISPLAYNAME:Schießhalle
X-ACCESS:1
X-HITS:44
X-COLOR:006400
X-SHOW-END-TIME:1
END:VEVENT
BEGIN:VEVENT
DTSTART;TZID=Europe/Berlin:20250905T180000
DTEND;TZID=Europe/Berlin:20250905T190000
UID:5A16B4AB-6D6B-4D21-A91A-9594E2C0D638
SUMMARY:Samtgemeinde-/Königsschießen (Gr. Ippener)
CREATED:20250604T113420Z
DTSTAMP:20250604T113420Z
URL:https://gross-ippener.de/vereine/schuetzenverein/svtermine/samtgemeinde-koenigsschiessen-gr-ippener.html
LAST-MODIFIED:20250604T113420Z
SEQUENCE:0
LOCATION:Dorfstr.\, 27243 Groß Ippener\, Niedersachsen
GEO:52.96161657;8.61942351
X-LOCATION-DISPLAYNAME:Schießhalle
X-ACCESS:1
X-HITS:19
X-COLOR:006400
X-SHOW-END-TIME:0
END:VEVENT
BEGIN:VEVENT
DTSTART;TZID=Europe/Berlin:20250912T190000
DTEND;TZID=Europe/Berlin:20250912T200000
UID:0D2EAC44-A586-423E-889E-BD19ADFC4BB9
SUMMARY:Vier-Orte-Pokalschießen in Dünsen
CREATED:20250604T113533Z
DTSTAMP:20250604T113533Z
URL:https://gross-ippener.de/vereine/schuetzenverein/svtermine/vier-orte-pokalschiessen-in-duensen.html
DESCRIPTION:Uniform
X-ALT-DESC;FMTTYPE=text/html:<p><strong>Uniform</strong></p>
LAST-MODIFIED:20250604T113533Z
SEQUENCE:0
X-ACCESS:1
X-HITS:16
X-COLOR:006400
X-SHOW-END-TIME:0
END:VEVENT
BEGIN:VEVENT
DTSTART;TZID=Europe/Berlin:20251018T180000
DTEND;TZID=Europe/Berlin:20251018T203000
UID:F0A6EC51-966B-40C1-B0BC-8230E4AD4721
SUMMARY:Herbst-/Glücksschießen mit "König der Könige"
CREATED:20250604T113937Z
DTSTAMP:20250604T113937Z
URL:https://gross-ippener.de/vereine/schuetzenverein/svtermine/herbst-gluecksschiessen-mit-koenig-der-koenige-2.html
DESCRIPTION:Uniform
X-ALT-DESC;FMTTYPE=text/html:<p><strong>Uniform</strong></p>
LAST-MODIFIED:20250604T114518Z
SEQUENCE:341
LOCATION:Dorfstr.\, 27243 Groß Ippener\, Niedersachsen
GEO:52.96161657;8.61942351
X-LOCATION-DISPLAYNAME:Schießhalle
X-ACCESS:1
X-HITS:19
X-COLOR:006400
X-SHOW-END-TIME:1
END:VEVENT
BEGIN:VEVENT
DTSTART;TZID=Europe/Berlin:20251207T110000
DTEND;TZID=Europe/Berlin:20251207T130000
UID:7EA85D3C-44E4-4033-B5BC-FD8A5E8C7EA1
SUMMARY:Adventsschießen
CREATED:20250604T114052Z
DTSTAMP:20250604T114052Z
URL:https://gross-ippener.de/vereine/schuetzenverein/svtermine/adventsschiessen-2.html
DESCRIPTION:Zivil
X-ALT-DESC;FMTTYPE=text/html:<p>Zivil</p>
LAST-MODIFIED:20250604T114052Z
SEQUENCE:0
LOCATION:Dorfstr.\, 27243 Groß Ippener\, Niedersachsen
GEO:52.96161657;8.61942351
X-LOCATION-DISPLAYNAME:Schießhalle
X-ACCESS:1
X-HITS:15
X-COLOR:006400
X-SHOW-END-TIME:1
END:VEVENT
BEGIN:VEVENT
DTSTART;TZID=Europe/Berlin:20260102T200000
DTEND;TZID=Europe/Berlin:20260102T210000
UID:7DB44A1C-7265-47F9-B5AC-1C21FC09B0CD
SUMMARY:Jahreshauptversammlung
CREATED:20250604T114202Z
DTSTAMP:20250604T114202Z
URL:https://gross-ippener.de/vereine/schuetzenverein/svtermine/jahreshauptversammlung-2.html
LAST-MODIFIED:20250604T114202Z
SEQUENCE:0
LOCATION:Dorfstraße 5\, 27243 Groß Ippener\, Niedersachsen\, Deutschland
GEO:52.95887049;8.61755493
X-LOCATION-DISPLAYNAME:Gaststätte Wülfers
X-ACCESS:1
X-HITS:12
X-COLOR:006400
X-SHOW-END-TIME:0
END:VEVENT
BEGIN:VEVENT
DTSTART;TZID=Europe/Berlin:20260314T180000
DTEND;TZID=Europe/Berlin:20260314T190000
UID:BB29AF2B-8435-4633-9F96-FC4B5B002654
SUMMARY:Schützenball
CREATED:20250604T114311Z
DTSTAMP:20250604T114311Z
URL:https://gross-ippener.de/vereine/schuetzenverein/svtermine/schuetzenball-2.html
LAST-MODIFIED:20250604T114311Z
SEQUENCE:0
LOCATION:Abernettistraße 43\, 27755 Delmenhorst\, Niedersachsen\, Deutschland
GEO:53.00774360;8.59937196
X-LOCATION-DISPLAYNAME:Haus Adelheide
X-ACCESS:1
X-HITS:29
X-COLOR:006400
X-SHOW-END-TIME:0
END:VEVENT
BEGIN:VEVENT
DTSTART;VALUE=DATE:20260619
DTEND;VALUE=DATE:20260620
UID:FA3B82C2-9B4C-4A87-9B1B-D8F76A63FFAA
SUMMARY:130-jähriges Jubiläum SV Ippener e.V.
CREATED:20250604T114406Z
DTSTAMP:20250604T114406Z
URL:https://gross-ippener.de/vereine/schuetzenverein/svtermine/130-jaehriges-jubilaeum-sv-ippener-e-v.html
LAST-MODIFIED:20250604T114406Z
SEQUENCE:0
X-ACCESS:1
X-HITS:14
X-COLOR:006400
X-SHOW-END-TIME:1
END:VEVENT
BEGIN:VEVENT
DTSTART;VALUE=DATE:20260620
DTEND;VALUE=DATE:20260621
UID:4204CD06-40E5-4C4D-A44D-149D1E52437D
SUMMARY:130-jähriges Jubiläum SV Ippener e.V.
CREATED:20250604T114436Z
DTSTAMP:20250604T114436Z
URL:https://gross-ippener.de/vereine/schuetzenverein/svtermine/130-jaehriges-jubilaeum-sv-ippener-e-v-2.html
LAST-MODIFIED:20250604T114436Z
SEQUENCE:0
X-ACCESS:1
X-HITS:15
X-COLOR:006400
X-SHOW-END-TIME:1
END:VEVENT
END:VCALENDAR